BEGIN:VCALENDAR
VERSION:2.0
PRODID:SchoolNow
CALSCALE:GREGORIAN
BEGIN:VEVENT
UID:9d5c4132-4ba5-11f0-b406-0a58a9feac02
DTSTAMP:20250617T180513Z
SUMMARY:Riverside Board Meeting
LOCATION:Riverside Academy East\, 7124 Miller Rd\, Dearborn\, MI 48126\, US
 A
URL;VALUE=URI:https://www.gee-edu.com/schools/riversideeast/calendar/831882
 1/riverside-board-meeting
DTSTART:20270209T220000Z
DTEND:20270209T230000Z
END:VEVENT
END:VCALENDAR
