BEGIN:VCALENDAR
VERSION:2.0
PRODID:SchoolNow
CALSCALE:GREGORIAN
BEGIN:VEVENT
UID:e28ea1aa-328c-11f0-b465-0afffc1554b9
DTSTAMP:20250617T180513Z
SUMMARY:Riverside Board Meeting
LOCATION:Riverside Academy East\, 7124 Miller Rd\, Dearborn\, MI 48126\, US
 A
URL;VALUE=URI:https://www.gee-edu.com/schools/riversideeast/calendar/814692
 0/riverside-board-meeting
DTSTART:20270112T220000Z
DTEND:20270112T230000Z
END:VEVENT
END:VCALENDAR
