BEGIN:VCALENDAR
VERSION:2.0
PRODID:SchoolNow
CALSCALE:GREGORIAN
BEGIN:VEVENT
UID:b998487a-14df-11f0-ba69-0a58a9feac02
DTSTAMP:20250617T180513Z
SUMMARY:Riverside Board Meeting
LOCATION:Riverside Academy East\, 7124 Miller Rd\, Dearborn\, MI 48126\, US
 A
URL;VALUE=URI:https://www.gee-edu.com/schools/riversideeast/calendar/788199
 0/riverside-board-meeting
DTSTART:20261208T220000Z
DTEND:20261208T230000Z
END:VEVENT
END:VCALENDAR
