BEGIN:VCALENDAR
VERSION:2.0
PRODID:SchoolNow
CALSCALE:GREGORIAN
BEGIN:VEVENT
UID:a283db3a-1017-11f0-bdbd-0a58a9feac02
DTSTAMP:20250617T180513Z
SUMMARY:KG Round-Up 1pm- 2pm
URL;VALUE=URI:https://www.gee-edu.com/schools/riversideeast/calendar/783572
 0/kg-round-up-1pm-2pm
DTSTART;VALUE=DATE:20250425
DTEND;VALUE=DATE:20250426
END:VEVENT
END:VCALENDAR
