BEGIN:VCALENDAR
VERSION:2.0
PRODID:SchoolNow
CALSCALE:GREGORIAN
BEGIN:VEVENT
UID:17c889f6-f39c-11ef-9a6b-027e37485565
DTSTAMP:20250617T180513Z
SUMMARY:NO SCHOOL EID BREAK
URL;VALUE=URI:https://www.gee-edu.com/schools/riversideeast/calendar/754639
 7/no-school-eid-break
DTSTART;VALUE=DATE:20250331
DTEND;VALUE=DATE:20250401
END:VEVENT
END:VCALENDAR
