BEGIN:VCALENDAR
VERSION:2.0
PRODID:SchoolNow
CALSCALE:GREGORIAN
BEGIN:VEVENT
UID:fab3ff8a-e27a-11ef-b4ac-0a58a9feac02
DTSTAMP:20250617T180513Z
SUMMARY:Open Enrollment
URL;VALUE=URI:https://www.gee-edu.com/schools/riversideeast/calendar/741755
 6/open-enrollment
DTSTART:20250303T203000Z
DTEND:20250303T220000Z
END:VEVENT
END:VCALENDAR
