BEGIN:VCALENDAR
VERSION:2.0
PRODID:SchoolNow
CALSCALE:GREGORIAN
BEGIN:VEVENT
UID:395839ea-b643-11ef-b277-0affd22b41ef
DTSTAMP:20250617T180513Z
SUMMARY:No School Mid-Winter Break
URL;VALUE=URI:https://www.gee-edu.com/schools/riversideeast/calendar/714464
 1/no-school-mid-winter-break
DTSTART;VALUE=DATE:20250217
DTEND;VALUE=DATE:20250218
END:VEVENT
END:VCALENDAR
