BEGIN:VCALENDAR
VERSION:2.0
PRODID:SchoolNow
CALSCALE:GREGORIAN
BEGIN:VEVENT
UID:3958351c-b643-11ef-aadf-0affd22b41ef
DTSTAMP:20250617T180513Z
SUMMARY:No School Good Friday
URL;VALUE=URI:https://www.gee-edu.com/schools/riversideeast/calendar/714463
 9/no-school-good-friday
DTSTART;VALUE=DATE:20250418
DTEND;VALUE=DATE:20250419
END:VEVENT
END:VCALENDAR
