BEGIN:VCALENDAR
VERSION:2.0
PRODID:SchoolNow
CALSCALE:GREGORIAN
BEGIN:VEVENT
UID:3958342c-b643-11ef-830b-0affd22b41ef
DTSTAMP:20250617T180513Z
SUMMARY:Half-Day Parent/Teacher Conferences
URL;VALUE=URI:https://www.gee-edu.com/schools/riversideeast/calendar/714463
 8/half-day-parent-teacher-conferences
DTSTART;VALUE=DATE:20250410
DTEND;VALUE=DATE:20250412
END:VEVENT
END:VCALENDAR
