BEGIN:VCALENDAR
VERSION:2.0
PRODID:SchoolNow
CALSCALE:GREGORIAN
BEGIN:VEVENT
UID:b8b9c596-ac4d-11ef-830a-0a58a9feac02
DTSTAMP:20250617T180513Z
SUMMARY:End of 3rd Quarter
URL;VALUE=URI:https://www.gee-edu.com/schools/riversideeast/calendar/708419
 3/end-of-3rd-quarter
DTSTART;VALUE=DATE:20250404
DTEND;VALUE=DATE:20250405
END:VEVENT
END:VCALENDAR
