BEGIN:VCALENDAR
VERSION:2.0
PRODID:SchoolNow
CALSCALE:GREGORIAN
BEGIN:VEVENT
UID:b8b9c154-ac4d-11ef-8c21-0a58a9feac02
DTSTAMP:20250617T180513Z
SUMMARY:NO SCHOOL SPRING BREAK
URL;VALUE=URI:https://www.gee-edu.com/schools/riversideeast/calendar/708419
 1/no-school-spring-break
DTSTART;VALUE=DATE:20250324
DTEND;VALUE=DATE:20250329
END:VEVENT
END:VCALENDAR
